Package: regionalpcs Version: 1.8.0 Command: /home/biocbuild/bbs-3.22-bioc/R/bin/R CMD build --keep-empty-dirs --no-resave-data --md5 regionalpcs StartedAt: 2025-11-04 19:36:42 -0500 (Tue, 04 Nov 2025) EndedAt: 2025-11-04 19:37:15 -0500 (Tue, 04 Nov 2025) EllapsedTime: 33.0 seconds RetCode: 0 Status: OK PackageFile: regionalpcs_1.8.0.tar.gz PackageFileSize: 470.6 KiB