Package: regionalpcs Version: 1.8.0 Command: /Library/Frameworks/R.framework/Resources/bin/R CMD build --keep-empty-dirs --no-resave-data regionalpcs StartedAt: 2025-11-20 23:01:40 -0500 (Thu, 20 Nov 2025) EndedAt: 2025-11-20 23:02:59 -0500 (Thu, 20 Nov 2025) EllapsedTime: 78.9 seconds RetCode: 0 Status: OK PackageFile: regionalpcs_1.8.0.tar.gz PackageFileSize: 469.8 KiB