Package: regionalpcs Version: 1.8.0 Command: rm -rf regionalpcs.buildbin-libdir && mkdir regionalpcs.buildbin-libdir && /Users/biocbuild/BBS/utils/build-universal.sh regionalpcs_1.8.0.tar.gz /Library/Frameworks/R.framework/Resources/bin/R regionalpcs.buildbin-libdir StartedAt: 2025-11-21 15:25:27 -0500 (Fri, 21 Nov 2025) EndedAt: 2025-11-21 15:25:33 -0500 (Fri, 21 Nov 2025) EllapsedTime: 5.8 seconds RetCode: 0 Status: OK PackageFile: regionalpcs_1.8.0.tgz PackageFileSize: 476.6 KiB