Package: recoup Version: 1.38.0 Command: /home/biocbuild/bbs-3.22-bioc/R/bin/R CMD INSTALL recoup StartedAt: 2025-11-06 15:39:35 -0500 (Thu, 06 Nov 2025) EndedAt: 2025-11-06 15:40:25 -0500 (Thu, 06 Nov 2025) EllapsedTime: 49.9 seconds RetCode: 0 Status: OK