Package: recoup Version: 1.38.0 Command: /home/biocbuild/bbs-3.22-bioc/R/bin/R CMD check --install=check:recoup.install-out.txt --library=/home/biocbuild/bbs-3.22-bioc/R/site-library --timings recoup_1.38.0.tar.gz StartedAt: 2025-11-07 03:08:11 -0500 (Fri, 07 Nov 2025) EndedAt: 2025-11-07 03:15:41 -0500 (Fri, 07 Nov 2025) EllapsedTime: 449.5 seconds RetCode: 0 Status: OK CheckDir: recoup.Rcheck Warnings: 0