Package: recount3 Version: 1.20.0 Command: rm -rf recount3.buildbin-libdir && mkdir recount3.buildbin-libdir && /Users/biocbuild/BBS/utils/build-universal.sh recount3_1.20.0.tar.gz /Library/Frameworks/R.framework/Resources/bin/R recount3.buildbin-libdir StartedAt: 2025-11-09 23:20:55 -0500 (Sun, 09 Nov 2025) EndedAt: 2025-11-09 23:21:11 -0500 (Sun, 09 Nov 2025) EllapsedTime: 15.3 seconds RetCode: 0 Status: OK PackageFile: recount3_1.20.0.tgz PackageFileSize: 641.5 KiB