Package: recount3 Version: 1.20.0 Maintainer: Leonardo Collado-Torres MaintainerEmail: lcolladotor at gmail.com git_url: https://git.bioconductor.org/packages/recount3 git_branch: RELEASE_3_22 git_last_commit: 33bfdcd git_last_commit_date: 2025-10-29 11:03:22 -0500 (Wed, 29 Oct 2025)