Package: recount Version: 1.35.0 Command: F:\biocbuild\bbs-3.22-bioc\R\bin\R.exe CMD check --no-multiarch --install=check:recount.install-out.txt --library=F:\biocbuild\bbs-3.22-bioc\R\library --no-vignettes --timings recount_1.35.0.tar.gz StartedAt: 2025-08-15 06:54:24 -0400 (Fri, 15 Aug 2025) EndedAt: 2025-08-15 07:04:54 -0400 (Fri, 15 Aug 2025) EllapsedTime: 630.2 seconds RetCode: 0 Status: OK CheckDir: recount.Rcheck Warnings: 0