Package: recount Version: 1.36.0 Command: /home/biocbuild/bbs-3.22-bioc/R/bin/R CMD INSTALL recount StartedAt: 2025-11-11 16:02:11 -0500 (Tue, 11 Nov 2025) EndedAt: 2025-11-11 16:03:26 -0500 (Tue, 11 Nov 2025) EllapsedTime: 75.0 seconds RetCode: 0 Status: OK