Package: recount Version: 1.36.0 Command: /home/biocbuild/bbs-3.22-bioc/R/bin/R CMD check --install=check:recount.install-out.txt --library=/home/biocbuild/bbs-3.22-bioc/R/site-library --timings recount_1.36.0.tar.gz StartedAt: 2025-11-12 03:14:23 -0500 (Wed, 12 Nov 2025) EndedAt: 2025-11-12 03:29:16 -0500 (Wed, 12 Nov 2025) EllapsedTime: 892.9 seconds RetCode: 0 Status: OK CheckDir: recount.Rcheck Warnings: 0