Package: recount Version: 1.34.0 Command: /Library/Frameworks/R.framework/Resources/bin/R CMD check --install=check:recount.install-out.txt --library=/Library/Frameworks/R.framework/Resources/library --no-vignettes --timings recount_1.34.0.tar.gz StartedAt: 2025-10-07 08:47:14 -0400 (Tue, 07 Oct 2025) EndedAt: 2025-10-07 09:02:10 -0400 (Tue, 07 Oct 2025) EllapsedTime: 896.1 seconds RetCode: 0 Status: OK CheckDir: recount.Rcheck Warnings: 0