Package: recount Version: 1.34.0 Command: /Library/Frameworks/R.framework/Resources/bin/R CMD build --keep-empty-dirs --no-resave-data recount StartedAt: 2025-10-06 21:53:31 -0400 (Mon, 06 Oct 2025) EndedAt: 2025-10-06 22:01:21 -0400 (Mon, 06 Oct 2025) EllapsedTime: 470.2 seconds RetCode: 0 Status: OK PackageFile: recount_1.34.0.tar.gz PackageFileSize: 7.492 MiB