Package: recount Version: 1.34.0 Command: /home/biocbuild/R/R/bin/R CMD build --keep-empty-dirs --no-resave-data recount StartedAt: 2025-10-07 03:54:30 -0000 (Tue, 07 Oct 2025) EndedAt: 2025-10-07 04:32:28 -0000 (Tue, 07 Oct 2025) EllapsedTime: 2277.8 seconds RetCode: 0 Status: OK PackageFile: recount_1.34.0.tar.gz PackageFileSize: 7.192 MiB