Package: recount Version: 1.36.0 Command: /Library/Frameworks/R.framework/Resources/bin/R CMD check --install=check:recount.install-out.txt --library=/Library/Frameworks/R.framework/Resources/library --no-vignettes --timings recount_1.36.0.tar.gz StartedAt: 2025-11-10 21:52:41 -0500 (Mon, 10 Nov 2025) EndedAt: 2025-11-10 21:57:10 -0500 (Mon, 10 Nov 2025) EllapsedTime: 268.1 seconds RetCode: 0 Status: OK CheckDir: recount.Rcheck Warnings: 0