Package: receptLoss Version: 1.20.0 Command: /home/biocbuild/R/R/bin/R CMD INSTALL receptLoss StartedAt: 2025-10-13 20:46:33 -0000 (Mon, 13 Oct 2025) EndedAt: 2025-10-13 20:47:06 -0000 (Mon, 13 Oct 2025) EllapsedTime: 33.6 seconds RetCode: 0 Status: OK