Package: receptLoss Version: 1.20.0 Command: /home/biocbuild/R/R/bin/R CMD check --install=check:receptLoss.install-out.txt --library=/home/biocbuild/R/R/site-library --no-vignettes --timings receptLoss_1.20.0.tar.gz StartedAt: 2025-10-14 13:07:00 -0000 (Tue, 14 Oct 2025) EndedAt: 2025-10-14 13:10:47 -0000 (Tue, 14 Oct 2025) EllapsedTime: 226.3 seconds RetCode: 1 Status: ERROR CheckDir: receptLoss.Rcheck Warnings: NA