Package: receptLoss Version: 1.20.0 Command: /home/biocbuild/R/R/bin/R CMD build --keep-empty-dirs --no-resave-data receptLoss StartedAt: 2025-10-14 03:55:31 -0000 (Tue, 14 Oct 2025) EndedAt: 2025-10-14 03:56:17 -0000 (Tue, 14 Oct 2025) EllapsedTime: 46.0 seconds RetCode: 0 Status: OK PackageFile: receptLoss_1.20.0.tar.gz PackageFileSize: 705.9 KiB