Package: rcellminer Version: 2.30.1 Command: /home/biocbuild/R/R/bin/R CMD check --install=check:rcellminer.install-out.txt --library=/home/biocbuild/R/R/site-library --no-vignettes --timings rcellminer_2.30.1.tar.gz StartedAt: 2025-10-14 13:03:38 -0000 (Tue, 14 Oct 2025) EndedAt: 2025-10-14 13:06:22 -0000 (Tue, 14 Oct 2025) EllapsedTime: 164.2 seconds RetCode: 1 Status: ERROR CheckDir: rcellminer.Rcheck Warnings: NA