Package: rcellminer Version: 2.30.1 Command: /Library/Frameworks/R.framework/Resources/bin/R CMD INSTALL rcellminer StartedAt: 2025-10-13 15:59:20 -0400 (Mon, 13 Oct 2025) EndedAt: 2025-10-13 15:59:29 -0400 (Mon, 13 Oct 2025) EllapsedTime: 9.2 seconds RetCode: 0 Status: OK