Package: rcellminer Version: 2.30.1 Command: rm -rf rcellminer.buildbin-libdir && mkdir rcellminer.buildbin-libdir && /Users/biocbuild/BBS/utils/build-universal.sh rcellminer_2.30.1.tar.gz /Library/Frameworks/R.framework/Resources/bin/R rcellminer.buildbin-libdir StartedAt: 2025-10-15 19:59:17 -0400 (Wed, 15 Oct 2025) EndedAt: 2025-10-15 19:59:30 -0400 (Wed, 15 Oct 2025) EllapsedTime: 12.5 seconds RetCode: 0 Status: OK PackageFile: rcellminer_2.30.1.tgz PackageFileSize: 2.914 MiB