Package: rbsurv Version: 2.66.0 Command: /Library/Frameworks/R.framework/Resources/bin/R CMD build --keep-empty-dirs --no-resave-data rbsurv StartedAt: 2025-09-25 21:52:10 -0400 (Thu, 25 Sep 2025) EndedAt: 2025-09-25 21:53:22 -0400 (Thu, 25 Sep 2025) EllapsedTime: 71.8 seconds RetCode: 0 Status: OK PackageFile: rbsurv_2.66.0.tar.gz PackageFileSize: 365.6 KiB