Package: rawrr Version: 1.17.13 Command: /home/biocbuild/R/R/bin/R CMD build --keep-empty-dirs --no-resave-data rawrr StartedAt: 2025-10-21 02:18:03 -0000 (Tue, 21 Oct 2025) EndedAt: 2025-10-21 02:18:20 -0000 (Tue, 21 Oct 2025) EllapsedTime: 17.0 seconds RetCode: 1 Status: ERROR PackageFile: None PackageFileSize: NA