Package: rawrr Version: 1.17.13 Command: F:\biocbuild\bbs-3.22-bioc\R\bin\R.exe CMD check --no-multiarch --install=check:rawrr.install-out.txt --library=F:\biocbuild\bbs-3.22-bioc\R\library --no-vignettes --timings rawrr_1.17.13.tar.gz StartedAt: 2025-08-15 06:49:32 -0400 (Fri, 15 Aug 2025) EndedAt: 2025-08-15 06:52:42 -0400 (Fri, 15 Aug 2025) EllapsedTime: 190.0 seconds RetCode: 0 Status: OK CheckDir: rawrr.Rcheck Warnings: 0