Package: rawrr Version: 1.18.0 Command: /Library/Frameworks/R.framework/Resources/bin/R CMD INSTALL rawrr StartedAt: 2025-11-03 15:09:15 -0500 (Mon, 03 Nov 2025) EndedAt: 2025-11-03 15:09:29 -0500 (Mon, 03 Nov 2025) EllapsedTime: 14.0 seconds RetCode: 0 Status: OK