Package: rawrr Version: 1.18.0 Command: /Library/Frameworks/R.framework/Resources/bin/R CMD check --install=check:rawrr.install-out.txt --library=/Library/Frameworks/R.framework/Resources/library --no-vignettes --timings rawrr_1.18.0.tar.gz StartedAt: 2025-11-03 23:36:58 -0500 (Mon, 03 Nov 2025) EndedAt: 2025-11-03 23:38:39 -0500 (Mon, 03 Nov 2025) EllapsedTime: 101.1 seconds RetCode: 0 Status: OK CheckDir: rawrr.Rcheck Warnings: 0