Package: rawrr Version: 1.18.0 Command: /Library/Frameworks/R.framework/Resources/bin/R CMD build --keep-empty-dirs --no-resave-data rawrr StartedAt: 2025-11-03 18:22:47 -0500 (Mon, 03 Nov 2025) EndedAt: 2025-11-03 18:24:06 -0500 (Mon, 03 Nov 2025) EllapsedTime: 78.9 seconds RetCode: 0 Status: OK PackageFile: rawrr_1.18.0.tar.gz PackageFileSize: 2.001 MiB