Package: rawrr Version: 1.18.0 Command: rm -rf rawrr.buildbin-libdir && mkdir rawrr.buildbin-libdir && /Users/biocbuild/BBS/utils/build-universal.sh rawrr_1.18.0.tar.gz /Library/Frameworks/R.framework/Resources/bin/R rawrr.buildbin-libdir StartedAt: 2025-11-04 01:57:59 -0500 (Tue, 04 Nov 2025) EndedAt: 2025-11-04 01:58:07 -0500 (Tue, 04 Nov 2025) EllapsedTime: 8.0 seconds RetCode: 0 Status: OK PackageFile: rawrr_1.18.0.tgz PackageFileSize: 2.034 MiB