Package: rawDiag Version: 1.5.2 Command: rm -rf rawDiag.buildbin-libdir && mkdir rawDiag.buildbin-libdir && F:\biocbuild\bbs-3.22-bioc\R\bin\R.exe CMD INSTALL --build --library=rawDiag.buildbin-libdir rawDiag_1.5.2.tar.gz StartedAt: 2025-08-15 11:03:23 -0400 (Fri, 15 Aug 2025) EndedAt: 2025-08-15 11:03:43 -0400 (Fri, 15 Aug 2025) EllapsedTime: 19.6 seconds RetCode: 0 Status: OK PackageFile: rawDiag_1.5.2.zip PackageFileSize: 963.8 KiB