Package: rawDiag Version: 1.6.0 Command: /home/biocbuild/bbs-3.22-bioc/R/bin/R CMD build --keep-empty-dirs --no-resave-data --md5 rawDiag StartedAt: 2025-11-02 19:45:56 -0500 (Sun, 02 Nov 2025) EndedAt: 2025-11-02 19:47:08 -0500 (Sun, 02 Nov 2025) EllapsedTime: 72.0 seconds RetCode: 0 Status: OK PackageFile: rawDiag_1.6.0.tar.gz PackageFileSize: 2.149 MiB