Package: rawDiag Version: 1.6.0 Command: /Library/Frameworks/R.framework/Resources/bin/R CMD check --install=check:rawDiag.install-out.txt --library=/Library/Frameworks/R.framework/Resources/library --no-vignettes --timings rawDiag_1.6.0.tar.gz StartedAt: 2025-10-31 21:36:14 -0400 (Fri, 31 Oct 2025) EndedAt: 2025-10-31 21:37:48 -0400 (Fri, 31 Oct 2025) EllapsedTime: 94.3 seconds RetCode: 0 Status: OK CheckDir: rawDiag.Rcheck Warnings: 0