Package: rawDiag Version: 1.4.0 Command: /Library/Frameworks/R.framework/Resources/bin/R CMD INSTALL rawDiag StartedAt: 2025-10-13 15:23:04 -0400 (Mon, 13 Oct 2025) EndedAt: 2025-10-13 15:23:12 -0400 (Mon, 13 Oct 2025) EllapsedTime: 8.2 seconds RetCode: 0 Status: OK