Package: rawDiag Version: 1.4.0 Command: /Library/Frameworks/R.framework/Resources/bin/R CMD build --keep-empty-dirs --no-resave-data rawDiag StartedAt: 2025-10-14 07:22:08 -0400 (Tue, 14 Oct 2025) EndedAt: 2025-10-14 07:22:20 -0400 (Tue, 14 Oct 2025) EllapsedTime: 12.5 seconds RetCode: 1 Status: ERROR PackageFile: None PackageFileSize: NA