Package: randRotation Version: 1.22.0 Command: /home/biocbuild/R/R/bin/R CMD build --keep-empty-dirs --no-resave-data randRotation StartedAt: 2025-11-21 05:02:47 -0000 (Fri, 21 Nov 2025) EndedAt: 2025-11-21 05:05:23 -0000 (Fri, 21 Nov 2025) EllapsedTime: 156.1 seconds RetCode: 0 Status: OK PackageFile: randRotation_1.22.0.tar.gz PackageFileSize: 962 KiB