Package: randPack Version: 1.54.0 Command: /home/biocbuild/bbs-3.21-bioc/R/bin/R CMD INSTALL randPack StartedAt: 2025-10-12 15:58:13 -0400 (Sun, 12 Oct 2025) EndedAt: 2025-10-12 15:58:17 -0400 (Sun, 12 Oct 2025) EllapsedTime: 4.2 seconds RetCode: 0 Status: OK