Package: randPack Version: 1.54.0 Command: /home/biocbuild/bbs-3.21-bioc/R/bin/R CMD build --keep-empty-dirs --no-resave-data randPack StartedAt: 2025-10-12 19:23:28 -0400 (Sun, 12 Oct 2025) EndedAt: 2025-10-12 19:23:35 -0400 (Sun, 12 Oct 2025) EllapsedTime: 7.0 seconds RetCode: 0 Status: OK PackageFile: randPack_1.54.0.tar.gz PackageFileSize: 253.5 KiB