Package: randPack Version: 1.54.0 Command: rm -rf randPack.buildbin-libdir && mkdir randPack.buildbin-libdir && /Users/biocbuild/BBS/utils/build-universal.sh randPack_1.54.0.tar.gz /Library/Frameworks/R.framework/Resources/bin/R randPack.buildbin-libdir StartedAt: 2025-10-15 19:57:45 -0400 (Wed, 15 Oct 2025) EndedAt: 2025-10-15 19:57:52 -0400 (Wed, 15 Oct 2025) EllapsedTime: 6.8 seconds RetCode: 0 Status: OK PackageFile: randPack_1.54.0.tgz PackageFileSize: 461.3 KiB