Package: ramwas Version: 1.32.0 Command: /Library/Frameworks/R.framework/Resources/bin/R CMD build --keep-empty-dirs --no-resave-data ramwas StartedAt: 2025-10-14 07:18:50 -0400 (Tue, 14 Oct 2025) EndedAt: 2025-10-14 07:24:18 -0400 (Tue, 14 Oct 2025) EllapsedTime: 328.2 seconds RetCode: 0 Status: OK PackageFile: ramwas_1.32.0.tar.gz PackageFileSize: 3.239 MiB