Package: rain Version: 1.42.0 Command: /Library/Frameworks/R.framework/Resources/bin/R CMD check --install=check:rain.install-out.txt --library=/Library/Frameworks/R.framework/Resources/library --no-vignettes --timings rain_1.42.0.tar.gz StartedAt: 2025-10-14 08:48:38 -0400 (Tue, 14 Oct 2025) EndedAt: 2025-10-14 08:50:19 -0400 (Tue, 14 Oct 2025) EllapsedTime: 101.2 seconds RetCode: 0 Status: OK CheckDir: rain.Rcheck Warnings: 0