Package: rain Version: 1.42.0 Command: /Library/Frameworks/R.framework/Resources/bin/R CMD build --keep-empty-dirs --no-resave-data rain StartedAt: 2025-10-13 21:49:23 -0400 (Mon, 13 Oct 2025) EndedAt: 2025-10-13 21:50:41 -0400 (Mon, 13 Oct 2025) EllapsedTime: 78.3 seconds RetCode: 0 Status: OK PackageFile: rain_1.42.0.tar.gz PackageFileSize: 604 KiB