Package: rain Version: 1.42.0 Command: /Library/Frameworks/R.framework/Resources/bin/R CMD INSTALL rain StartedAt: 2025-10-06 15:33:39 -0400 (Mon, 06 Oct 2025) EndedAt: 2025-10-06 15:33:47 -0400 (Mon, 06 Oct 2025) EllapsedTime: 8.2 seconds RetCode: 0 Status: OK