Package: rain Version: 1.42.0 Command: /Library/Frameworks/R.framework/Resources/bin/R CMD check --install=check:rain.install-out.txt --library=/Library/Frameworks/R.framework/Resources/library --no-vignettes --timings rain_1.42.0.tar.gz StartedAt: 2025-10-08 10:57:14 -0400 (Wed, 08 Oct 2025) EndedAt: 2025-10-08 10:58:20 -0400 (Wed, 08 Oct 2025) EllapsedTime: 66.0 seconds RetCode: 0 Status: OK CheckDir: rain.Rcheck Warnings: 0