Package: rain Version: 1.42.0 Command: /Library/Frameworks/R.framework/Resources/bin/R CMD build --keep-empty-dirs --no-resave-data rain StartedAt: 2025-10-07 07:35:45 -0400 (Tue, 07 Oct 2025) EndedAt: 2025-10-07 07:36:25 -0400 (Tue, 07 Oct 2025) EllapsedTime: 39.8 seconds RetCode: 0 Status: OK PackageFile: rain_1.42.0.tar.gz PackageFileSize: 604.4 KiB