Package: rain Version: 1.42.0 Command: rm -rf rain.buildbin-libdir && mkdir rain.buildbin-libdir && /Users/biocbuild/BBS/utils/build-universal.sh rain_1.42.0.tar.gz /Library/Frameworks/R.framework/Resources/bin/R rain.buildbin-libdir StartedAt: 2025-10-08 22:27:58 -0400 (Wed, 08 Oct 2025) EndedAt: 2025-10-08 22:28:08 -0400 (Wed, 08 Oct 2025) EllapsedTime: 10.3 seconds RetCode: 0 Status: OK PackageFile: rain_1.42.0.tgz PackageFileSize: 632.4 KiB