Package: raer Version: 1.6.0 Command: /home/biocbuild/bbs-3.21-bioc/R/bin/R CMD INSTALL raer StartedAt: 2025-10-15 15:38:05 -0400 (Wed, 15 Oct 2025) EndedAt: 2025-10-15 15:38:50 -0400 (Wed, 15 Oct 2025) EllapsedTime: 45.3 seconds RetCode: 0 Status: OK