Package: raer Version: 1.6.0 Command: /home/biocbuild/bbs-3.21-bioc/R/bin/R CMD build --keep-empty-dirs --no-resave-data raer StartedAt: 2025-10-15 19:19:43 -0400 (Wed, 15 Oct 2025) EndedAt: 2025-10-15 19:26:18 -0400 (Wed, 15 Oct 2025) EllapsedTime: 395.4 seconds RetCode: 0 Status: OK PackageFile: raer_1.6.0.tar.gz PackageFileSize: 2.346 MiB