Package: raer Version: 1.8.0 Command: rm -rf raer.buildbin-libdir && mkdir raer.buildbin-libdir && /Users/biocbuild/BBS/utils/build-universal.sh raer_1.8.0.tar.gz /Library/Frameworks/R.framework/Resources/bin/R raer.buildbin-libdir StartedAt: 2025-10-31 01:41:49 -0400 (Fri, 31 Oct 2025) EndedAt: 2025-10-31 01:42:59 -0400 (Fri, 31 Oct 2025) EllapsedTime: 70.6 seconds RetCode: 0 Status: OK PackageFile: raer_1.8.0.tgz PackageFileSize: 3.23 MiB