Package: rWikiPathways Version: 1.30.0 Command: /home/biocbuild/bbs-3.22-bioc/R/bin/R CMD INSTALL rWikiPathways StartedAt: 2025-11-09 15:09:43 -0500 (Sun, 09 Nov 2025) EndedAt: 2025-11-09 15:09:51 -0500 (Sun, 09 Nov 2025) EllapsedTime: 8.4 seconds RetCode: 0 Status: OK