Package: rTRM Version: 1.48.0 Command: /home/biocbuild/R/R/bin/R CMD INSTALL rTRM StartedAt: 2025-11-17 21:32:48 -0000 (Mon, 17 Nov 2025) EndedAt: 2025-11-17 21:33:09 -0000 (Mon, 17 Nov 2025) EllapsedTime: 21.1 seconds RetCode: 0 Status: OK