Package: rTRM Version: 1.48.0 Command: /home/biocbuild/R/R/bin/R CMD check --install=check:rTRM.install-out.txt --library=/home/biocbuild/R/R/site-library --no-vignettes --timings rTRM_1.48.0.tar.gz StartedAt: 2025-11-18 14:29:49 -0000 (Tue, 18 Nov 2025) EndedAt: 2025-11-18 14:32:54 -0000 (Tue, 18 Nov 2025) EllapsedTime: 184.6 seconds RetCode: 0 Status: OK CheckDir: rTRM.Rcheck Warnings: 0