Package: rTRM Version: 1.48.0 Command: /home/biocbuild/R/R/bin/R CMD build --keep-empty-dirs --no-resave-data rTRM StartedAt: 2025-11-18 04:40:36 -0000 (Tue, 18 Nov 2025) EndedAt: 2025-11-18 04:41:55 -0000 (Tue, 18 Nov 2025) EllapsedTime: 79.1 seconds RetCode: 0 Status: OK PackageFile: rTRM_1.48.0.tar.gz PackageFileSize: 3.276 MiB